BEGIN:VCALENDAR
VERSION:2.0
PRODID:-//wp-events-plugin.com//7.2.3.1//EN
TZID:Europe/Berlin
X-WR-TIMEZONE:Europe/Berlin
BEGIN:VEVENT
UID:36@fachart.de
DTSTART;TZID=Europe/Berlin:20260110T140000
DTEND;TZID=Europe/Berlin:20260110T160000
DTSTAMP:20251213T125058Z
URL:https://fachart.de/events/weihnachtskugeln-mit-wachs-verzieren-8/
SUMMARY:ACRYL Pouring Workshop
DESCRIPTION:Entdecke die faszinierende Welt des Acryl Pouring!\n\nErschaffe
   in unserem Workshop atemberaubende Fließbilder mit flüssiger Acrylfar
 be.\n\nWas dich erwartet:\n\n 	Techniken und Tipps: Einführung in versch
 iedene Pouring-Techniken\, Farbauswahl und Mischverhältnisse.\n\n\n 	 In
 dividuelle Betreuung: Die Kursleiterin unterstützt dich bei jedem Schrit
 t.\n\n\n 	Alle Materialien inklusive: Von Farben bis zu Leinwänden - All
 es wird gestellt.\n\n\n 	Eigenes Kunstwerk: Nach einer Trocknungszeit von 
 2 Tagen nimmst du dein selbst  geschaffenes Kunstwerk mit nach Hause.\n\n
 Was du mitbringen solltest:\n\n 	gute Laune (wenn nicht bekommst du sie hi
 er)\n 	alte Kleidung (empfehlenswert)\n\nMindestteilnehmer: 3 Personen\nin
 kl. aller Materialien\nKosten: 39 Euro/Person
ATTACH;FMTTYPE=image/jpeg:https://fachart.de/wp-content/uploads/2025/10/ac
 ryl5-1-rotated.jpg
LOCATION:FachArt\, Bahnstraße 57c\, Brieselang\, Brandenburg\, 14656\, Hav
 elland\, Deutschland
X-APPLE-STRUCTURED-LOCATION;VALUE=URI;X-ADDRESS=Bahnstraße 57c\, Brieselan
 g\, Brandenburg\, 14656\, Havelland\, Deutschland;X-APPLE-RADIUS=100;X-TIT
 LE=FachArt:geo:0,0
END:VEVENT
BEGIN:VTIMEZONE
TZID:Europe/Berlin
X-LIC-LOCATION:Europe/Berlin
BEGIN:STANDARD
DTSTART:20251026T020000
TZOFFSETFROM:+0200
TZOFFSETTO:+0100
TZNAME:CET
END:STANDARD
END:VTIMEZONE
END:VCALENDAR