BEGIN:VCALENDAR
VERSION:2.0
PRODID:-//wp-events-plugin.com//7.2.3.1//EN
TZID:Europe/Berlin
X-WR-TIMEZONE:Europe/Berlin
BEGIN:VEVENT
UID:35@fachart.de
DTSTART;TZID=Europe/Berlin:20251022T170000
DTEND;TZID=Europe/Berlin:20251022T190000
DTSTAMP:20251019T180116Z
URL:https://fachart.de/events/weihnachtskugeln-mit-wachs-verzieren-7/
SUMMARY:Weihnachtskugeln mit Wachs verzieren
DESCRIPTION:In diesen besonderen Kreativkursen lernen Sie\, wie Sie mit Wac
 hse\, Gänsefedern und Nadeln zauberhafte Muster und Verzierungen auf Oste
 reier oder Weihnachtskugeln zaubern.\n\nUnter fachkundiger Anleitung entde
 cken Sie traditionelle Techniken und lassen Ihrer Kreativität freien Lauf
 .\n\nOb zarte Linien\, kunstvolle Ornamente oder aufwendige Motive - Ihre 
 Werke werden garantiert zu einzigartigen Kunststücken\, die jedem Anlass 
 eine persönliche Note verleihen.\n\nIm Kurs erlernt ihr die sehr alte Tec
 hnik des Verzierens von verschieden farbigen und verschieden großen Weihn
 achtskugeln mit  Wachsen mittels Gänsefedern und Nadeln. Die  Kugeln we
 rden in ca. 2 Stunden gestaltet und zum Aufhängen fertiggestellt.\nSie br
 auchen keine Vorkenntnisse.\n\nMindestteilnehmerzahl: 4 Personen.\n\nPreis
  inkl. Material: 25\,00 Euro pro Person
ATTACH;FMTTYPE=image/jpeg:https://fachart.de/wp-content/uploads/2025/10/ku
 geln2.jpg
LOCATION:FachArt\, Bahnstraße 57c\, Brieselang\, Brandenburg\, 14656\, Hav
 elland\, Deutschland
X-APPLE-STRUCTURED-LOCATION;VALUE=URI;X-ADDRESS=Bahnstraße 57c\, Brieselan
 g\, Brandenburg\, 14656\, Havelland\, Deutschland;X-APPLE-RADIUS=100;X-TIT
 LE=FachArt:geo:0,0
END:VEVENT
BEGIN:VTIMEZONE
TZID:Europe/Berlin
X-LIC-LOCATION:Europe/Berlin
BEGIN:DAYLIGHT
DTSTART:20250330T030000
TZOFFSETFROM:+0100
TZOFFSETTO:+0200
TZNAME:CEST
END:DAYLIGHT
END:VTIMEZONE
END:VCALENDAR