BEGIN:VCALENDAR
VERSION:2.0
PRODID:-//wp-events-plugin.com//7.2.3.1//EN
TZID:Europe/Berlin
X-WR-TIMEZONE:Europe/Berlin
BEGIN:VEVENT
UID:54@fachart.de
DTSTART;TZID=Europe/Berlin:20251127T180000
DTEND;TZID=Europe/Berlin:20251127T200000
DTSTAMP:20251019T183746Z
URL:https://fachart.de/events/kerzenziehen/
SUMMARY:Kerzenziehen
DESCRIPTION:Entdecke ein altes Handwerk - die Kunst des Kerzenziehens!\n\nU
 nser Kerzenworkshop lädt dich ein\, deine eigenen handgefertigten und sel
 bst gezogenen Kerzen zu kreieren. Tauche ein in eine Welt voller Wärme un
 d Farben und lass deine Ideen in Wachs erstrahlen.\nDer Workshop beinhalt
 et die Herstellung von zwei Stabkerzen.\n\nKeine Vorkenntnisse notwendig.\
 nFreude am kreativen Arbeiten reicht.\nWichtige Info! Bei der Herstellung
  kann es zu Spritzern kommen\, bringen Sie bitte eine Schürze bzw. alte K
 leidung zum Überziehen mit.\nMaterial und Werkzeug liegen für dich berei
 t.\nKinder unter 7 nur in Begleitung eines Erwachsenen.\n\nMindestteilnehm
 erzahl: 3 Personen\ninkl. aller Materialien\nKosten: 18 Euro/Person\n\nNeb
 en den angekündigten Terminen sind selbstverständlich auch individuelle 
 Buchungen möglich\, z. B. für Mädelsabend\, Babyshower\, Junggesellinne
 n-Abschied\, Geburtstagsfeier\, Teambuilding etc.
ATTACH;FMTTYPE=image/jpeg:https://fachart.de/wp-content/uploads/2025/10/ke
 rzenziehen1.jpg
LOCATION:FachArt\, Bahnstraße 57c\, Brieselang\, Brandenburg\, 14656\, Hav
 elland\, Deutschland
X-APPLE-STRUCTURED-LOCATION;VALUE=URI;X-ADDRESS=Bahnstraße 57c\, Brieselan
 g\, Brandenburg\, 14656\, Havelland\, Deutschland;X-APPLE-RADIUS=100;X-TIT
 LE=FachArt:geo:0,0
END:VEVENT
BEGIN:VTIMEZONE
TZID:Europe/Berlin
X-LIC-LOCATION:Europe/Berlin
BEGIN:STANDARD
DTSTART:20251026T020000
TZOFFSETFROM:+0200
TZOFFSETTO:+0100
TZNAME:CET
END:STANDARD
END:VTIMEZONE
END:VCALENDAR